BEGIN:VCALENDAR
VERSION:2.0
PRODID:icalendar-ruby
CALSCALE:GREGORIAN
METHOD:PUBLISH
BEGIN:VEVENT
DTSTAMP:20260419T223700Z
UID:6-338121@saguarocanyon.org
DTSTART:20261018T160000Z
DTEND:20261018T171000Z
CLASS:PUBLIC
CREATED:20260419T140636
DESCRIPTION:
LAST-MODIFIED:20260419T140636
LOCATION:Saguaro Canyon Church
SUMMARY:Sunday Worship 9:00 am
URL;VALUE=URI:https://saguarocanyon.org/events/sunday-worship-9-00-am/2026-
 10-18
ATTACH;FILENAME=PXL_20250420_160629629.jpg;FMTTYPE=image/jpeg:https://dq5pw
 pg1q8ru0.cloudfront.net/2025/12/05/07/22/01/f0688901-1100-42b0-b026-66bafb
 ed5032/PXL_20250420_160629629.jpg
END:VEVENT
END:VCALENDAR
