BEGIN:VCALENDAR
VERSION:2.0
PRODID:icalendar-ruby
CALSCALE:GREGORIAN
METHOD:PUBLISH
BEGIN:VEVENT
DTSTAMP:20260419T205348Z
UID:6-337948@saguarocanyon.org
DTSTART:20261011T160000Z
DTEND:20261011T171000Z
CLASS:PUBLIC
CREATED:20260419T102403
DESCRIPTION:
LAST-MODIFIED:20260419T102403
LOCATION:Saguaro Canyon Church
SUMMARY:Sunday Worship 9:00 am
URL;VALUE=URI:https://saguarocanyon.org/events/sunday-worship-9-00-am/2026-
 10-11
ATTACH;FILENAME=PXL_20250420_160629629.jpg;FMTTYPE=image/jpeg:https://dq5pw
 pg1q8ru0.cloudfront.net/2025/12/05/07/22/01/f0688901-1100-42b0-b026-66bafb
 ed5032/PXL_20250420_160629629.jpg
END:VEVENT
END:VCALENDAR
